BEGIN:VCALENDAR
VERSION:2.0
PRODID:icalendar-ruby
CALSCALE:GREGORIAN
BEGIN:VEVENT
DTSTAMP:20260419T125308Z
UID:d3008a89-bae2-4803-bb85-f1a195cfbbae
DTSTART;VALUE=DATE:20250925
DESCRIPTION:Property ID# 596583\, Locatoin: 8 Kent Terrace\, Wellington\, T
 ime: 12:00PM
SUMMARY:Auction for 
END:VEVENT
END:VCALENDAR
