BEGIN:VCALENDAR
VERSION:2.0
PRODID:icalendar-ruby
CALSCALE:GREGORIAN
BEGIN:VEVENT
DTSTAMP:20260419T125107Z
UID:d963190d-3f59-42af-bcaf-2469634deec8
DTSTART;VALUE=DATE:20251023
DESCRIPTION:Property ID# 597973\, Locatoin: 8 Kent Terrace\, Wellington\, T
 ime: 12:00PM
SUMMARY:Auction for 
END:VEVENT
END:VCALENDAR
