BEGIN:VCALENDAR
VERSION:2.0
PRODID:icalendar-ruby
CALSCALE:GREGORIAN
BEGIN:VEVENT
DTSTAMP:20260423T124753Z
UID:9ad7e2ce-bc25-4b4e-9edc-5feefa39d2b0
DTSTART;VALUE=DATE:20260128
DESCRIPTION:Property ID# 601736\, Locatoin: 8 Kent Terrace\, Wellington\, T
 ime: 12:00PM
SUMMARY:Auction for 
END:VEVENT
END:VCALENDAR
