BEGIN:VCALENDAR
VERSION:2.0
PRODID:icalendar-ruby
CALSCALE:GREGORIAN
BEGIN:VEVENT
DTSTAMP:20260419T124009Z
UID:5702e97d-2fb1-45ca-a19c-50045d219c38
DTSTART;VALUE=DATE:20260409
DESCRIPTION:Property ID# 605519\, Locatoin: 8 Kent Terrace\, Wellington\, T
 ime: 12:00PM
SUMMARY:Auction for 71 Jubilee Road
END:VEVENT
END:VCALENDAR
